BEGIN:VCALENDAR
VERSION:2.0
PRODID:-//ChamberMaster//Event Calendar 2.0//EN
METHOD:PUBLISH
X-PUBLISHED-TTL:P3D
REFRESH-INTERVAL:P3D
CALSCALE:GREGORIAN
BEGIN:VEVENT
DTSTART:20190123T170000Z
DTEND:20190123T170000Z
X-MICROSOFT-CDO-ALLDAYEVENT:FALSE
SUMMARY:"We Shall Overcome" feat. Damien Sneed
DESCRIPTION:Inspired by the words and actions of Dr. Martin Luther King\, Jr.\, We Shall Overcome showcases repertoire from across the African-American music traditions with interwoven spoken word from Dr. King's recorded speeches.
X-ALT-DESC;FMTTYPE=text/html:Inspired by the words and actions of Dr. Martin Luther King\, Jr.\, We Shall Overcome showcases repertoire from across the African-American music traditions with interwoven spoken word from Dr. King&rsquo\;s recorded speeches.
LOCATION:Harbison Theatre at Midlands Technical College 7300 College Street Irmo\, SC 29063
UID:e.1333.3236
SEQUENCE:3
DTSTAMP:20260423T071842Z
URL:https://business.greaterirmochamber.com/events/details/we-shall-overcome-feat-damien-sneed-3236
END:VEVENT

END:VCALENDAR
