BEGIN:VCALENDAR
VERSION:2.0
PRODID:-//ChamberMaster//Event Calendar 2.0//EN
METHOD:PUBLISH
X-PUBLISHED-TTL:P3D
REFRESH-INTERVAL:P3D
CALSCALE:GREGORIAN
BEGIN:VEVENT
DTSTART:20170223T230000Z
DTEND:20170224T003000Z
X-MICROSOFT-CDO-ALLDAYEVENT:FALSE
SUMMARY:Webster University - Columbia Information Session
DESCRIPTION:Do you feel 'stuck' at your current job? Have you considered your educational options? Are you looking to advance in your industry? Webster University   Columbia Metropolitan Campus personally invites you to our upcoming 'Information Session' on Thursday\, February 23\, 2017 from 6pm until 7:30pm. Please join us to get more information about our university\, our programs\, and tour our facilities.\n\n \n\nAt Webster University\, a degree is more than a piece of paper. It's proof that you'll do what it takes to push your career and yourself further. With its global footprint\, a degree from Webster University not only provides you with a degree more and more employers are looking for\, but also the critical thinking skills and teamwork experience necessary for today's interconnected world.\n\n \n\nAdvisors will be available to talk with you about your future at Webster University. The $35 undergraduate application fee is waived for those who attend and apply. The $50 graduate application fee is waived for those who attend and apply. For a complete list of programs\, visit webster.edu/columbia.\n\n\n\nRSVP to Napoleon Melton\, Jr.\, Community Relations Coordinator\, at melton89@webster.edu or at 803-699-0900.
X-ALT-DESC;FMTTYPE=text/html:Do you feel &lsquo\;stuck&rsquo\; at your current job? Have you considered your educational options? Are you looking to advance in your industry? Webster University &ndash\; Columbia Metropolitan Campus personally invites you to our upcoming &lsquo\;Information Session&rsquo\; on Thursday\, February 23\, 2017 from 6pm until 7:30pm. Please join us to get more information about our university\, our programs\, and tour our facilities.<br />\n&nbsp\;<br />\nAt Webster University\, a degree is more than a piece of paper. It&#39\;s proof that you&#39\;ll do what it takes to push your career and yourself further. With its global footprint\, a degree from Webster University not only provides you with a degree more and more employers are looking for\, but also the critical thinking skills and teamwork experience necessary for today&#39\;s interconnected world.<br />\n&nbsp\;<br />\nAdvisors will be available to talk with you about your future at Webster University. The $35 undergraduate application fee is waived for those who attend and apply. The $50 graduate application fee is waived for those who attend and apply. For a complete list of programs\, visit webster.edu/columbia.<br />\n<br />\nRSVP to Napoleon Melton\, Jr.\, Community Relations Coordinator\, at melton89@webster.edu or at 803-699-0900.
LOCATION:100 Gateway Corporate Boulevard Columbia\, SC 29203
UID:e.1333.2519
SEQUENCE:3
DTSTAMP:20260424T195543Z
URL:https://business.greaterirmochamber.com/events/details/webster-university-columbia-information-session-02-23-2017-2519
END:VEVENT

END:VCALENDAR
