BEGIN:VCALENDAR
VERSION:2.0
PRODID:-//ChamberMaster//Event Calendar 2.0//EN
METHOD:PUBLISH
X-PUBLISHED-TTL:P3D
REFRESH-INTERVAL:P3D
CALSCALE:GREGORIAN
BEGIN:VEVENT
DTSTART:20251128T170000Z
DTEND:20251128T170000Z
X-MICROSOFT-CDO-ALLDAYEVENT:FALSE
SUMMARY:Werq with the Rut Spence Band
DESCRIPTION:Come WERQ with the Rut Spence Band! \n\n\n\nParticipants get free entry to their show at 6pm on the 28th.
X-ALT-DESC;FMTTYPE=text/html:<span style="font-size:16px\;"><span style="font-family:verdana\;">Come WERQ with the Rut Spence Band!&nbsp\;<br />\n<br />\nParticipants get free entry to their show at 6pm on the 28th.&nbsp\;</span></span>
LOCATION:Webhead Fitness 4611 Broad River Road Columbia\, SC
UID:e.1333.6241
SEQUENCE:3
DTSTAMP:20260422T220545Z
URL:https://business.greaterirmochamber.com/events/details/werq-with-the-rut-spence-band-6241
END:VEVENT

END:VCALENDAR
