BEGIN:VCALENDAR
VERSION:2.0
PRODID:-//ChamberMaster//Event Calendar 2.0//EN
METHOD:PUBLISH
X-PUBLISHED-TTL:P3D
REFRESH-INTERVAL:P3D
CALSCALE:GREGORIAN
BEGIN:VEVENT
DTSTART:20170324T233000Z
DTEND:20170325T020000Z
X-MICROSOFT-CDO-ALLDAYEVENT:FALSE
SUMMARY:What's Going On
DESCRIPTION:What’s Going On looks through the lens of Marvin Gaye’s transcendent music and finds a reflection of the world today. Taking inspiration from 1971’s inimitable track What’s Going On\, Marvin Gaye’s insights into life\, love\, and social justice are given fresh perspectives by Artistic Director/Choreographer Vincent E. Thomas with additional choreography by Ralph Glenmore and Sylvia Soumah. This evening-length work features nine performers in modern\, jazz\, and West African dance.
X-ALT-DESC;FMTTYPE=text/html:What’s Going On looks through the lens of Marvin Gaye’s transcendent music and finds a reflection of the world today. Taking inspiration from 1971’s inimitable track What’s Going On\, Marvin Gaye’s insights into life\, love\, and social justice are given fresh perspectives by Artistic Director/Choreographer Vincent E. Thomas with additional choreography by Ralph Glenmore and Sylvia Soumah. This evening-length work features nine performers in modern\, jazz\, and West African dance. \n
LOCATION:Harbison Theatre at Midlands Technical College 7300 College Street Irmo\, SC 29063 803-407-5011
UID:e.1333.2459
SEQUENCE:3
DTSTAMP:20260424T171415Z
URL:https://business.greaterirmochamber.com/events/details/what-s-going-on-03-24-2017-2459
END:VEVENT

END:VCALENDAR
