BEGIN:VCALENDAR
VERSION:2.0
PRODID:-//ChamberMaster//Event Calendar 2.0//EN
METHOD:PUBLISH
X-PUBLISHED-TTL:P3D
REFRESH-INTERVAL:P3D
CALSCALE:GREGORIAN
BEGIN:VEVENT
DTSTART:20180220T233000Z
DTEND:20180221T010000Z
X-MICROSOFT-CDO-ALLDAYEVENT:FALSE
SUMMARY:What You Need To Know About the Tax Cuts and Jobs Act
DESCRIPTION:Educational workshop that can help you take more control over taxes.\n\nTopics for discussion will include:\n\n+  The 2018 Tax Cuts and Jobs Act\n\n+  How this new law will affect thetax environment\n\n+ The continuing importance of tax-efficient investing.
X-ALT-DESC;FMTTYPE=text/html:Educational workshop that can help you take more control over taxes.<br />\nTopics for discussion will include:<br />\n+&nbsp\; The 2018 Tax Cuts and Jobs Act<br />\n+&nbsp\; How this new law will affect thetax environment<br />\n+ The continuing importance of tax-efficient investing.
LOCATION:Old Mill Brew Pub\, 711 E. Main St\, Lexington\, Sc 29072
UID:e.1333.2954
SEQUENCE:3
DTSTAMP:20260424T004026Z
URL:https://business.greaterirmochamber.com/events/details/what-you-need-to-know-about-the-tax-cuts-and-jobs-act-2954
END:VEVENT

END:VCALENDAR
