BEGIN:VCALENDAR
VERSION:2.0
PRODID:-//ChamberMaster//Event Calendar 2.0//EN
METHOD:PUBLISH
X-PUBLISHED-TTL:P3D
REFRESH-INTERVAL:P3D
CALSCALE:GREGORIAN
BEGIN:VEVENT
DTSTART:20170121T203000Z
DTEND:20170121T230000Z
X-MICROSOFT-CDO-ALLDAYEVENT:FALSE
SUMMARY:Wiesenthal
DESCRIPTION:"Step into the office of the world’s most respected Nazi hunter as he recounts the engrossing story of his life’s work. Fresh from off- Broadway and now touring the globe\, this one-man drama lets the audience connect intimately with the true story of Simon Wiesenthal\, who devoted his life to bringing more than 1\,000 Nazi war criminals to justice. In a performance the New York Times calls “Moving. Powerful. Beautiful\,” playwright Tom Dugan honors the man behind the legend with poignancy\, humor\, and nobility.\nRecommended for pre-teens and older."
X-ALT-DESC;FMTTYPE=text/html:"Step into the office of the world’s most respected Nazi hunter as he recounts the engrossing story of his life’s work. Fresh from off- Broadway and now touring the globe\, this one-man drama lets the audience connect intimately with the true story of Simon Wiesenthal\, who devoted his life to bringing more than 1\,000 Nazi war criminals to justice. In a performance the New York Times calls “Moving. Powerful. Beautiful\,” playwright Tom Dugan honors the man behind the legend with poignancy\, humor\, and nobility.\nRecommended for pre-teens and older."\n
LOCATION:Harbison Theatre at Midlands Technical College 7300 College Street Irmo\, SC 29063 803-407-5011
UID:e.1333.2449
SEQUENCE:3
DTSTAMP:20260424T213015Z
URL:https://business.greaterirmochamber.com/events/details/wiesenthal-01-21-2017-2449
END:VEVENT

END:VCALENDAR
