BEGIN:VCALENDAR
VERSION:2.0
PRODID:-//ChamberMaster//Event Calendar 2.0//EN
METHOD:PUBLISH
X-PUBLISHED-TTL:P3D
REFRESH-INTERVAL:P3D
CALSCALE:GREGORIAN
BEGIN:VEVENT
DTSTART:20190720T220000Z
DTEND:20190721T020000Z
X-MICROSOFT-CDO-ALLDAYEVENT:FALSE
SUMMARY:Wild Summer's Night Auction & Wild Game Feast
DESCRIPTION:To a crowd of nearly 400 people\, we will be auctioning off just about anything anyone could ever want! There are beautiful works of art\; jewelry\; guided birding and wildlife-watching trips\; hunting and fishing excursions\, both in South Carolina and other amazing places\; guided river and kayak tours\; hunting and fishing equipment\; and much more. Event will include live & silent auctions\, prize drawings & games\, wild game feast\, open bar\, and much more!
X-ALT-DESC;FMTTYPE=text/html:To a crowd of nearly 400 people\, we will be auctioning off just about anything anyone could ever want! There are beautiful works of art\; jewelry\; guided birding and wildlife-watching trips\; hunting and fishing excursions\, both in South Carolina and other amazing places\; guided river and kayak tours\; hunting and fishing equipment\; and much more. Event will include live &amp\; silent auctions\, prize drawings &amp\; games\, wild game feast\, open bar\, and much more!
LOCATION:1125 Rosewood Drive Columbia\, SC\, 29201
UID:e.1333.3314
SEQUENCE:3
DTSTAMP:20260422T213934Z
URL:https://business.greaterirmochamber.com/events/details/wild-summer-s-night-auction-wild-game-feast-3314
END:VEVENT

END:VCALENDAR
