BEGIN:VCALENDAR
VERSION:2.0
PRODID:-//ChamberMaster//Event Calendar 2.0//EN
METHOD:PUBLISH
X-PUBLISHED-TTL:P3D
REFRESH-INTERVAL:P3D
CALSCALE:GREGORIAN
BEGIN:VEVENT
DTSTART:20161025T160000Z
DTEND:20161025T164500Z
X-MICROSOFT-CDO-ALLDAYEVENT:FALSE
SUMMARY:WOMEN ROCK THEIR FINANCES!/JD Hacker of Prudential Financial- Educational Seminar
DESCRIPTION:This seminar will cover important topics like:\n\n*The 5 steps on the path to financial security for women\n\n*Confidence gap\n\n*Steps that work for your financial needs and more.\n\nLunch will be provided. Register by Oct. 23.
X-ALT-DESC;FMTTYPE=text/html:This seminar will cover important topics like:<br />\n*The 5 steps on the path to financial security for women<br />\n*Confidence gap<br />\n*Steps that work for your financial needs and more.<br />\nLunch will be provided. Register by Oct. 23.
LOCATION:Irmo Chamber 1235 Columbia Avenue Irmo\, SC 29063
UID:e.1333.2485
SEQUENCE:3
DTSTAMP:20260425T003226Z
URL:https://business.greaterirmochamber.com/events/details/women-rock-their-finances-jd-hacker-of-prudential-financial-educational-seminar-2485
END:VEVENT

END:VCALENDAR
