BEGIN:VCALENDAR
VERSION:2.0
PRODID:-//ChamberMaster//Event Calendar 2.0//EN
METHOD:PUBLISH
X-PUBLISHED-TTL:P3D
REFRESH-INTERVAL:P3D
CALSCALE:GREGORIAN
BEGIN:VEVENT
DTSTART:20180816T230000Z
DTEND:20180817T000000Z
X-MICROSOFT-CDO-ALLDAYEVENT:FALSE
SUMMARY:Women's Self-Defense Seminar
DESCRIPTION:WOMEN'S SELF-DEFENSE SEMINAR\n\nSponsored by Universal School of Karate\n\nRegistration required: 722-6084
X-ALT-DESC;FMTTYPE=text/html:WOMEN&#39\;S SELF-DEFENSE SEMINAR<br />\nSponsored by Universal School of Karate<br />\nRegistration required: 722-6084
LOCATION:7325 St. Andrews Road Irmo\, SC
UID:e.1333.3248
SEQUENCE:3
DTSTAMP:20260423T162232Z
URL:https://business.greaterirmochamber.com/events/details/women-s-self-defense-seminar-3248
END:VEVENT

END:VCALENDAR
