BEGIN:VCALENDAR
VERSION:2.0
PRODID:-//ChamberMaster//Event Calendar 2.0//EN
METHOD:PUBLISH
X-PUBLISHED-TTL:P3D
REFRESH-INTERVAL:P3D
CALSCALE:GREGORIAN
BEGIN:VEVENT
DTSTART:20180816T130000Z
DTEND:20180816T143000Z
X-MICROSOFT-CDO-ALLDAYEVENT:FALSE
SUMMARY:WOMEN: TURN YOU BUSINESS INTO YOUR BIG BOLD BRAND Seminar
DESCRIPTION:WOMEN:  TURN YOUR BUSINESS INTO YOUR BIG BOLD BRAND Seminar\n\nSpeaker: Abigail Tiefenthaler\n\nHosted by Phat Maverick
X-ALT-DESC;FMTTYPE=text/html:WOMEN:&nbsp\; TURN YOUR BUSINESS INTO YOUR BIG BOLD BRAND Seminar<br />\nSpeaker: Abigail Tiefenthaler<br />\nHosted by Phat Maverick
LOCATION:Irmo Chamber Board Room 1235 Columbia Ave. Irmo\, SC
UID:e.1333.3252
SEQUENCE:3
DTSTAMP:20260423T151111Z
URL:https://business.greaterirmochamber.com/events/details/women-turn-you-business-into-your-big-bold-brand-seminar-3252
END:VEVENT

END:VCALENDAR
