BEGIN:VCALENDAR
VERSION:2.0
PRODID:-//ChamberMaster//Event Calendar 2.0//EN
METHOD:PUBLISH
X-PUBLISHED-TTL:P3D
REFRESH-INTERVAL:P3D
CALSCALE:GREGORIAN
BEGIN:VEVENT
DTSTART:20170608T210000Z
DTEND:20170609T010000Z
X-MICROSOFT-CDO-ALLDAYEVENT:FALSE
SUMMARY:Woodmen Life Business After Hours on the Lake!
DESCRIPTION:Woodmen Life is hosting the Irmo Chamber for a business after hours on the lake! Live music from Tokyo Joe and plenty of eats and drinks. Hope to see you at this great networking event!
X-ALT-DESC;FMTTYPE=text/html:<span style="color: rgb(75\, 79\, 86)\; font-family: 'San Francisco'\, -apple-system\, BlinkMacSystemFont\, '.SFNSText-Regular'\, sans-serif\; font-size: 14px\; letter-spacing: -0.23999999463558197px\;">Woodmen Life is hosting the Irmo Chamber for a business after hours on the lake! Live music from Tokyo Joe and plenty of eats and drinks. Hope to see you at this great networking event!</span>
LOCATION:Woodmen Life Lodge 2000 Johnson Marina Road Chapin\, SC
UID:e.1333.2558
SEQUENCE:3
DTSTAMP:20260424T125457Z
URL:https://business.greaterirmochamber.com/events/details/woodmen-life-business-after-hours-on-the-lake-2558
END:VEVENT

END:VCALENDAR
