BEGIN:VCALENDAR
VERSION:2.0
PRODID:-//ChamberMaster//Event Calendar 2.0//EN
METHOD:PUBLISH
X-PUBLISHED-TTL:P3D
REFRESH-INTERVAL:P3D
CALSCALE:GREGORIAN
BEGIN:VEVENT
DTSTART:20171013T160000Z
DTEND:20171013T190000Z
X-MICROSOFT-CDO-ALLDAYEVENT:FALSE
SUMMARY:World Finance Grand Opening Celebration
DESCRIPTION:
X-ALT-DESC;FMTTYPE=text/html:
LOCATION:7210 E Broad River Road Irmo\, SC 29063
UID:e.1333.2917
SEQUENCE:3
DTSTAMP:20260424T065209Z
URL:https://business.greaterirmochamber.com/events/details/world-finance-grand-opening-celebration-2917
END:VEVENT

END:VCALENDAR
