BEGIN:VCALENDAR
VERSION:2.0
PRODID:-//ChamberMaster//Event Calendar 2.0//EN
METHOD:PUBLISH
X-PUBLISHED-TTL:P3D
REFRESH-INTERVAL:P3D
CALSCALE:GREGORIAN
BEGIN:VEVENT
DTSTART:20180304T190000Z
DTEND:20180304T210000Z
X-MICROSOFT-CDO-ALLDAYEVENT:FALSE
SUMMARY:WOW Acting Workshop: Comedic Improv and Character Development
DESCRIPTION:Join New Orleans born actor\, director\, coach and WOW Productions company member\, William Young IV\, for an intensive workshop series. Mach's class will focus on comedic improv and character development. Young will use related exercises to develop each actor's ability to listen\, live in the moment and trust one's instincts. "Acting is behaving truthfully under imaginary circumstances."
X-ALT-DESC;FMTTYPE=text/html:Join New Orleans born actor\, director\, coach and WOW Productions company member\, William Young IV\, for an intensive workshop series. Mach&#39\;s class will focus on comedic improv and character development. Young will use related exercises to develop each actor&rsquo\;s ability to listen\, live in the moment and trust one&rsquo\;s instincts. &ldquo\;Acting is behaving truthfully under imaginary circumstances.&rdquo\;
LOCATION:WOW Performing Arts Center 5816 Shakespeare Road\, Ste A Columbia\, SC 29223
UID:e.1333.2951
SEQUENCE:3
DTSTAMP:20260423T225659Z
URL:https://business.greaterirmochamber.com/events/details/wow-acting-workshop-comedic-improv-and-character-development-2951
END:VEVENT

END:VCALENDAR
