BEGIN:VCALENDAR
VERSION:2.0
PRODID:-//ChamberMaster//Event Calendar 2.0//EN
METHOD:PUBLISH
X-PUBLISHED-TTL:P3D
REFRESH-INTERVAL:P3D
CALSCALE:GREGORIAN
BEGIN:VEVENT
DTSTART:20180204T190000Z
DTEND:20180204T210000Z
X-MICROSOFT-CDO-ALLDAYEVENT:FALSE
SUMMARY:WOW Acting Workshop: Dramatic Improv and Character Development
DESCRIPTION:Join New Orleans born actor\, director\, coach and WOW Productions company member\, William Young IV\, for an intensive workshop series. February's class will focus on dramatic improv and character development. Young will use related exercises to develop each actor's ability to listen\, live in the moment and trust one's instincts. "Acting is behaving truthfully under imaginary circumstances."
X-ALT-DESC;FMTTYPE=text/html:Join New Orleans born actor\, director\, coach and WOW Productions company member\, William Young IV\, for an intensive workshop series. February&#39\;s class will focus on dramatic improv and character development. Young will use related exercises to develop each actor&rsquo\;s ability to listen\, live in the moment and trust one&rsquo\;s instincts. &ldquo\;Acting is behaving truthfully under imaginary circumstances.&rdquo\;
LOCATION:WOW Performing Arts Center 5816 Shakespeare Road\, Ste A Columbia\, SC 29223
UID:e.1333.2950
SEQUENCE:3
DTSTAMP:20260424T003410Z
URL:https://business.greaterirmochamber.com/events/details/wow-acting-workshop-dramatic-improv-and-character-development-2950
END:VEVENT

END:VCALENDAR
