BEGIN:VCALENDAR
VERSION:2.0
PRODID:-//ChamberMaster//Event Calendar 2.0//EN
METHOD:PUBLISH
X-PUBLISHED-TTL:P3D
REFRESH-INTERVAL:P3D
CALSCALE:GREGORIAN
BEGIN:VEVENT
DTSTART:20180127T150000Z
DTEND:20180127T190000Z
X-MICROSOFT-CDO-ALLDAYEVENT:FALSE
SUMMARY:Write It! Direct It! Produce It! Workshop
DESCRIPTION:Are you ready for the stage? Do you see yourself in films\, on TV or in a hit stage play? If so\, what are you doing to make sure you are the best actor you can be? Allow us to find your strengths and unique skills and help you present your best! In this monthly class students will express their creativity and imagination while exploring basic acting fundamentals. During these sessions\, students will go over... - Audition Techniques - how to prepare and get ready for an audition\; - Monologues - find or perfect your monologue so you can land that role\; - Improv Techniques - how to think on your feet and make the right choices in acting. Facilitators will use related exercises to develop each actor's ability to listen\, live in the moment and trust one's instincts. This acting class is ideal for beginning actors as well as actors that need to brush up on their skills. You could never learn or sharpen your skills enough.
X-ALT-DESC;FMTTYPE=text/html:Are you ready for the stage? Do you see yourself in films\, on TV or in a hit stage play? If so\, what are you doing to make sure you are the best actor you can be? Allow us to find your strengths and unique skills and help you present your best! In this monthly class students will express their creativity and imagination while exploring basic acting fundamentals. During these sessions\, students will go over... - Audition Techniques - how to prepare and get ready for an audition\; - Monologues - find or perfect your monologue so you can land that role\; - Improv Techniques - how to think on your feet and make the right choices in acting. Facilitators will use related exercises to develop each actor&rsquo\;s ability to listen\, live in the moment and trust one&rsquo\;s instincts. This acting class is ideal for beginning actors as well as actors that need to brush up on their skills. You could never learn or sharpen your skills enough.
LOCATION:WOW Performing Arts Center 5816 Shakespeare Rd\, Ste A Columbia\, SC 29223
UID:e.1333.2945
SEQUENCE:3
DTSTAMP:20260424T020041Z
URL:https://business.greaterirmochamber.com/events/details/write-it-direct-it-produce-it-workshop-2945
END:VEVENT

END:VCALENDAR
