BEGIN:VCALENDAR
VERSION:2.0
PRODID:-//ChamberMaster//Event Calendar 2.0//EN
METHOD:PUBLISH
X-PUBLISHED-TTL:P3D
REFRESH-INTERVAL:P3D
CALSCALE:GREGORIAN
BEGIN:VEVENT
DTSTART;VALUE=DATE:20160830
DTEND;VALUE=DATE:20160903
TRANSP:TRANSPARENT
X-MICROSOFT-CDO-ALLDAYEVENT:TRUE
SUMMARY:Youth Bowling at Anchor Lanes
DESCRIPTION:Hey Parents- Youth Stars Program is forming now for Fall.  Kids bowl on Saturday mornings for 15 weeks.  Weekly instruction and coaching\, all ages & abilities\, fun themes\, end of season party and prizes.  A great way to meet other kids and stay active.  Starts September 10th.
X-ALT-DESC;FMTTYPE=text/html:<span style="font-family:arial\,helvetica\,sans-serif"><span style="font-size:12px">Hey Parents- Youth Stars Program is forming now for Fall.&nbsp\; Kids bowl on Saturday mornings for 15 weeks.&nbsp\; Weekly instruction and coaching\, all ages &amp\; abilities\, fun themes\, end of season party and prizes.&nbsp\; A great way to meet other kids and stay active.&nbsp\; Starts September 10th.</span></span>
LOCATION:Anchor Lanes Bowling Center 1057 Lake Murray Blvd Irmo SC 29063
UID:e.1333.2474
SEQUENCE:3
DTSTAMP:20260425T020427Z
URL:https://business.greaterirmochamber.com/events/details/youth-bowling-at-anchor-lanes-2474
END:VEVENT

END:VCALENDAR
