BEGIN:VCALENDAR
VERSION:2.0
PRODID:-//ChamberMaster//Event Calendar 2.0//EN
METHOD:PUBLISH
X-PUBLISHED-TTL:P3D
REFRESH-INTERVAL:P3D
CALSCALE:GREGORIAN
BEGIN:VEVENT
DTSTART:20200506T150000Z
DTEND:20200506T160000Z
X-MICROSOFT-CDO-ALLDAYEVENT:FALSE
SUMMARY:ZOOM & Learn: Your Unemployment Questions Answered
DESCRIPTION:Join us for an informative\, very timely ZOOM & Learn with the South Carolina Department of Employment and Workforce (SCDEW).  If you have had to file for unemployment during the COVID-19 crisis either as an employer or an employee\, this seminar will answer any questions you have about the process and how to navigate it.  \n\n\n\nThank you to Jamie Suber (SCDEW Chief of Staff) and Todd Timmons (Chief Legal Officer) for agreeing to jump on this Zoom and take your questions.  We are requesting that you email your questions in advance by noon on Tuesday (ceo@greaterirmochamber.com).  SCDEW is well aware that the volume of calls and questions has made it difficult for the business community to get the answers they need.  Please don't miss this informative seminar.
X-ALT-DESC;FMTTYPE=text/html:<span style="font-size:16px\;">Join us for an <u>informative</u>\, <em>very timely</em> <strong>ZOOM &amp\; Learn</strong> with the <strong>South Carolina Department of Employment and Workforce (SCDEW)</strong>. &nbsp\;<span style="color:#FF0000\;"><strong>If you have had to file for unemployment during the COVID-19 crisis either as an employer or an employee\, this seminar will answer any questions you have about the process and how to navigate it. </strong></span>&nbsp\;<br />\n<br />\nThank you to <strong>Jamie Suber (SCDEW Chief of Staff)</strong> and <strong>Todd Timmons (Chief Legal Officer) </strong>for agreeing to jump on this Zoom and take your questions. &nbsp\;<span style="color:#FF0000\;"><strong>We are requesting that you email your questions in advance by noon on Tuesday (ceo@greaterirmochamber.com). &nbsp\;</strong></span><strong>SCDEW</strong> is well aware that the volume of calls and questions has made it difficult for the business community to get the answers they need. &nbsp\;Please don&#39\;t miss this informative seminar.</span>
LOCATION:Via ZOOM. Link will be sent via email prior to the event to all registrants.
UID:e.1333.3695
SEQUENCE:3
DTSTAMP:20260422T083004Z
URL:https://business.greaterirmochamber.com/events/details/zoom-learn-your-unemployment-questions-answered-3695
END:VEVENT

END:VCALENDAR
